BEGIN:VCALENDAR
VERSION:2.0
PRODID:-//The Yard at Ivanhoe - ECPv6.15.17.1//NONSGML v1.0//EN
CALSCALE:GREGORIAN
METHOD:PUBLISH
X-WR-CALNAME:The Yard at Ivanhoe
X-ORIGINAL-URL:https://theyardivanhoe.com
X-WR-CALDESC:Events for The Yard at Ivanhoe
REFRESH-INTERVAL;VALUE=DURATION:PT1H
X-Robots-Tag:noindex
X-PUBLISHED-TTL:PT1H
BEGIN:VTIMEZONE
TZID:America/New_York
BEGIN:DAYLIGHT
TZOFFSETFROM:-0500
TZOFFSETTO:-0400
TZNAME:EDT
DTSTART:20230312T070000
END:DAYLIGHT
BEGIN:STANDARD
TZOFFSETFROM:-0400
TZOFFSETTO:-0500
TZNAME:EST
DTSTART:20231105T060000
END:STANDARD
BEGIN:DAYLIGHT
TZOFFSETFROM:-0500
TZOFFSETTO:-0400
TZNAME:EDT
DTSTART:20240310T070000
END:DAYLIGHT
BEGIN:STANDARD
TZOFFSETFROM:-0400
TZOFFSETTO:-0500
TZNAME:EST
DTSTART:20241103T060000
END:STANDARD
BEGIN:DAYLIGHT
TZOFFSETFROM:-0500
TZOFFSETTO:-0400
TZNAME:EDT
DTSTART:20250309T070000
END:DAYLIGHT
BEGIN:STANDARD
TZOFFSETFROM:-0400
TZOFFSETTO:-0500
TZNAME:EST
DTSTART:20251102T060000
END:STANDARD
END:VTIMEZONE
BEGIN:VEVENT
DTSTART;VALUE=DATE:20240419
DTEND;VALUE=DATE:20240420
DTSTAMP:20260421T102922
CREATED:20240329T143214Z
LAST-MODIFIED:20240329T143311Z
UID:19680-1713484800-1713571199@theyardivanhoe.com
SUMMARY:Leasing Office Closed: Greystar Excellence Awards
DESCRIPTION:Our leasing office is closed today\, as our team attends the yearly Greystar Excellence Awards for North Florida. Concierge services will continue to be available.
URL:https://theyardivanhoe.com/event/leasing-office-closed-greystar-excellence-awards/
LOCATION:The Yard at Ivanhoe\, 1460 Alden Rd\, Orlando\, FL\, 32803\, United States
END:VEVENT
END:VCALENDAR